BEGIN:VCALENDAR
VERSION:2.0
PRODID:-//St. Mary Catholic Parish - ECPv6.15.18//NONSGML v1.0//EN
CALSCALE:GREGORIAN
METHOD:PUBLISH
X-ORIGINAL-URL:https://stmarylittleton.org
X-WR-CALDESC:Events for St. Mary Catholic Parish
REFRESH-INTERVAL;VALUE=DURATION:PT1H
X-Robots-Tag:noindex
X-PUBLISHED-TTL:PT1H
BEGIN:VTIMEZONE
TZID:America/Denver
BEGIN:DAYLIGHT
TZOFFSETFROM:-0700
TZOFFSETTO:-0600
TZNAME:MDT
DTSTART:20230312T090000
END:DAYLIGHT
BEGIN:STANDARD
TZOFFSETFROM:-0600
TZOFFSETTO:-0700
TZNAME:MST
DTSTART:20231105T080000
END:STANDARD
BEGIN:DAYLIGHT
TZOFFSETFROM:-0700
TZOFFSETTO:-0600
TZNAME:MDT
DTSTART:20240310T090000
END:DAYLIGHT
BEGIN:STANDARD
TZOFFSETFROM:-0600
TZOFFSETTO:-0700
TZNAME:MST
DTSTART:20241103T080000
END:STANDARD
BEGIN:DAYLIGHT
TZOFFSETFROM:-0700
TZOFFSETTO:-0600
TZNAME:MDT
DTSTART:20250309T090000
END:DAYLIGHT
BEGIN:STANDARD
TZOFFSETFROM:-0600
TZOFFSETTO:-0700
TZNAME:MST
DTSTART:20251102T080000
END:STANDARD
END:VTIMEZONE
BEGIN:VEVENT
DTSTART;TZID=America/Denver:20240925T093000
DTEND;TZID=America/Denver:20240925T120000
DTSTAMP:20260421T080933
CREATED:20240925T151232Z
LAST-MODIFIED:20240925T151232Z
UID:24884-1727256600-1727265600@stmarylittleton.org
SUMMARY:Baptism Preparation Class
DESCRIPTION:When a baby is baptized\, he/she is baptized based on the desire and faith of the parent(s). Because of this\, we offer the opportunity to learn why we baptize\, what baptism is\, and what the effects and obligations are that go along with it. This preparation will inform the parents and godparents in those areas and empower them to make the promises that are proclaimed during a baptism celebration. Both the parents and godparents are required to attend a baptism preparation program.  \n\n\nHere at St Mary Catholic Parish\, we offer Baptism Prep Classes every 3rd Saturday of the month. \nFor more information or to register\, please contact Deacon Stephen.
URL:https://stmarylittleton.org/event/baptism-preparation-class/
END:VEVENT
BEGIN:VEVENT
DTSTART;TZID=America/Denver:20240925T110000
DTEND;TZID=America/Denver:20240925T140000
DTSTAMP:20260421T080933
CREATED:20240925T143540Z
LAST-MODIFIED:20240925T144303Z
UID:24842-1727262000-1727272800@stmarylittleton.org
SUMMARY:Sunshine Club
DESCRIPTION:Join our group of seniors 55+ as we pray the rosary and go out for lunch\, presentations\, and other activities. Our group meets in St Joseph Chapel at 11:00 am. \nFor more information or to RSVP to a meeting please contact Frannie Zech at 720.378.3572.
URL:https://stmarylittleton.org/event/sunshine/
END:VEVENT
END:VCALENDAR